BEGIN:VCALENDAR
PRODID:-//Hannon Hill Events//Cascade CMS//EN
VERSION:2.0
X-WR-CALNAME:Paint a Barn Quilt Creation Workshops Gardening Series 6-23-26
X-WR-TIMEZONE:America/New_York
BEGIN:VTIMEZONE
TZID:America/New_York
BEGIN:DAYLIGHT
TZOFFSETFROM:-0500
TZOFFSETTO:-0400
TZNAME:EDT
DTSTART:19700308T020000
RRULE:FREQ=YEARLY;BYMONTH=3;BYDAY=2SU
END:DAYLIGHT
BEGIN:STANDARD
TZOFFSETFROM:-0400
TZOFFSETTO:-0500
TZNAME:EST
DTSTART:19701101T020000
RRULE:FREQ=YEARLY;BYMONTH=11;BYDAY=1SU
END:STANDARD
END:VTIMEZONE
BEGIN:VEVENT
DTSTART:20260623T100000
DTEND:20260623T170000
DTSTAMP:20260422T191701
UID:b6c66189ac1e8ce1002f676e70827730
CREATED:20260422T155907
DESCRIPTION:Paint a barn quilt\, garden theme\, all supplies included with
 registration fee\, June 23\, 9AM\, Laporte County Fairgrounds\,
LAST-MODIFIED:20260422T160812
SEQUENCE:0
STATUS:CONFIRMED
SUMMARY:Paint a Barn Quilt Creation Workshops Gardening Series 6-23-26
TRANSP:OPAQUE
END:VEVENT
END:VCALENDAR
